BEGIN:VCALENDAR
VERSION:2.0
PRODID:-//Dolan Springs Community Council - ECPv6.15.20//NONSGML v1.0//EN
CALSCALE:GREGORIAN
METHOD:PUBLISH
X-ORIGINAL-URL:https://dsccaz.org
X-WR-CALDESC:Events for Dolan Springs Community Council
REFRESH-INTERVAL;VALUE=DURATION:PT1H
X-Robots-Tag:noindex
X-PUBLISHED-TTL:PT1H
BEGIN:VTIMEZONE
TZID:America/Phoenix
BEGIN:STANDARD
TZOFFSETFROM:-0700
TZOFFSETTO:-0700
TZNAME:MST
DTSTART:20240101T000000
END:STANDARD
END:VTIMEZONE
BEGIN:VEVENT
DTSTART;TZID=America/Phoenix:20251213T180000
DTEND;TZID=America/Phoenix:20251213T193000
DTSTAMP:20260423T151953
CREATED:20251201T163246Z
LAST-MODIFIED:20251201T163246Z
UID:3312-1765648800-1765654200@dsccaz.org
SUMMARY:Heavenly Holidays
DESCRIPTION:Celebrate the holidays with music and memories with a live performance by Edwin Cook\, lead singer of the Cornell Gunter’s Coasters! Songs will include “Yakey Yak”\, “Poison Ivy”\, and “Love Potion #9”\, and hang up an “angel” ornament on the special Christmas\, feel free to bring your favorite picture of your loved one(s). \nThis event is open to the public and is non-smoking.
URL:https://dsccaz.org/event/heavenly-holidays/
LOCATION:VFW Post 9833\, 15943 Pierce Ferry Rd\, Dolan Springs\, AZ\, 86441\, United States
END:VEVENT
BEGIN:VEVENT
DTSTART;TZID=America/Phoenix:20251216T090000
DTEND;TZID=America/Phoenix:20251216T120000
DTSTAMP:20260423T151953
CREATED:20251210T161055Z
LAST-MODIFIED:20251210T161055Z
UID:3331-1765875600-1765886400@dsccaz.org
SUMMARY:Adopt A Road: Litter Cleanup
DESCRIPTION:Litter clean up from mile marker 3 to 4 for the Community Council (meeting at the DSCC hall) and if you’d like to volunteer to assist Mt Loco Gardens and Friends in their clean up from mile marker 8 to 10 at about 10:30am.
URL:https://dsccaz.org/event/adopt-a-road-litter-cleanup/
LOCATION:DSCC\, 15195 N Piece Ferry Rd\, Dolan Springs\, AZ\, 86441\, United States
ORGANIZER;CN="DSCC":MAILTO:contact@dsccaz.org
END:VEVENT
BEGIN:VEVENT
DTSTART;TZID=America/Phoenix:20251219T090000
DTEND;TZID=America/Phoenix:20251219T150000
DTSTAMP:20260423T151953
CREATED:20251201T022759Z
LAST-MODIFIED:20251201T022934Z
UID:3310-1766134800-1766156400@dsccaz.org
SUMMARY:3 C's Children Community Christmas
DESCRIPTION:This will be the 6th annual Christmas children’s event. \nChildren will receive a goodie bag as well as winter clothing\, coloring books\, crayons\, a stuffed animal! \n 
URL:https://dsccaz.org/event/3-cs-children-community-christmas/
LOCATION:DSCC\, 15195 N Piece Ferry Rd\, Dolan Springs\, AZ\, 86441\, United States
END:VEVENT
BEGIN:VEVENT
DTSTART;TZID=America/Phoenix:20251220T090000
DTEND;TZID=America/Phoenix:20251220T140000
DTSTAMP:20260423T151953
CREATED:20251208T054852Z
LAST-MODIFIED:20251208T054852Z
UID:3326-1766221200-1766239200@dsccaz.org
SUMMARY:Christmas Market
DESCRIPTION:
URL:https://dsccaz.org/event/christmas-market/
LOCATION:DSCC\, 15195 N Piece Ferry Rd\, Dolan Springs\, AZ\, 86441\, United States
ORGANIZER;CN="Veronica Horton":MAILTO:vdhcraftandgifts@gmail.com
END:VEVENT
BEGIN:VEVENT
DTSTART;TZID=America/Phoenix:20251225T150000
DTEND;TZID=America/Phoenix:20251225T170000
DTSTAMP:20260423T151953
CREATED:20251208T054648Z
LAST-MODIFIED:20251208T054648Z
UID:3324-1766674800-1766682000@dsccaz.org
SUMMARY:Christmas Dinner
DESCRIPTION:RESERVATION REQUIRED \nPlease RSVP with Rachael at 209-684-4965 \nMenu will includes ham or roasted chicken\, whipped potatoes\, dinner rolls\, seasonal vegetables\, and dessert. \nDine in or take out is available. \nWe are also seeking volunteers to help with serving food and cleanup. If you would like to volunteer please reach out contact@dsccaz.org
URL:https://dsccaz.org/event/christmas-dinner/
LOCATION:DSCC\, 15195 N Piece Ferry Rd\, Dolan Springs\, AZ\, 86441\, United States
ORGANIZER;CN="DSCC":MAILTO:contact@dsccaz.org
END:VEVENT
END:VCALENDAR