BEGIN:VCALENDAR
VERSION:2.0
PRODID:-//Dolan Springs Community Council - ECPv6.15.20//NONSGML v1.0//EN
CALSCALE:GREGORIAN
METHOD:PUBLISH
X-WR-CALNAME:Dolan Springs Community Council
X-ORIGINAL-URL:https://dsccaz.org
X-WR-CALDESC:Events for Dolan Springs Community Council
REFRESH-INTERVAL;VALUE=DURATION:PT1H
X-Robots-Tag:noindex
X-PUBLISHED-TTL:PT1H
BEGIN:VTIMEZONE
TZID:America/Phoenix
BEGIN:STANDARD
TZOFFSETFROM:-0700
TZOFFSETTO:-0700
TZNAME:MST
DTSTART:20240101T000000
END:STANDARD
END:VTIMEZONE
BEGIN:VEVENT
DTSTART;TZID=America/Phoenix:20251108T160000
DTEND;TZID=America/Phoenix:20251108T180000
DTSTAMP:20260423T172035
CREATED:20251020T131824Z
LAST-MODIFIED:20251020T131955Z
UID:3292-1762617600-1762624800@dsccaz.org
SUMMARY:Fundraising Dinner
DESCRIPTION:This is a dinner for the DSCC for the upcoming Christmas season for the Community Childrens Christmas event!
URL:https://dsccaz.org/event/dinner/
LOCATION:DSCC\, 15195 N Piece Ferry Rd\, Dolan Springs\, AZ\, 86441\, United States
ORGANIZER;CN="DSCC":MAILTO:contact@dsccaz.org
END:VEVENT
BEGIN:VEVENT
DTSTART;TZID=America/Phoenix:20251118T170000
DTEND;TZID=America/Phoenix:20251118T170000
DTSTAMP:20260423T172035
CREATED:20251103T203440Z
LAST-MODIFIED:20251103T203440Z
UID:3299-1763485200-1763485200@dsccaz.org
SUMMARY:Special Meeting
DESCRIPTION:This is a schedule special meeting to go over bylaw revisions.
URL:https://dsccaz.org/event/special-meeting/
LOCATION:DSCC\, 15195 N Piece Ferry Rd\, Dolan Springs\, AZ\, 86441\, United States
ORGANIZER;CN="DSCC":MAILTO:contact@dsccaz.org
END:VEVENT
BEGIN:VEVENT
DTSTART;TZID=America/Phoenix:20251127T150000
DTEND;TZID=America/Phoenix:20251127T160000
DTSTAMP:20260423T172035
CREATED:20251018T070107Z
LAST-MODIFIED:20251018T070107Z
UID:3290-1764255600-1764259200@dsccaz.org
SUMMARY:Friendsgiving Dinner
DESCRIPTION:The DSCC is hosting a Friendsgiving (Thanksgiving dinner) provided by some incredible members of the community\, specifically the Lewis Family\, D&D Water\, and Thank A Vet.
URL:https://dsccaz.org/event/friendsgiving-dinner/
LOCATION:DSCC\, 15195 N Piece Ferry Rd\, Dolan Springs\, AZ\, 86441\, United States
END:VEVENT
END:VCALENDAR