BEGIN:VCALENDAR
VERSION:2.0
PRODID:-//Dolan Springs Community Council - ECPv6.15.20//NONSGML v1.0//EN
CALSCALE:GREGORIAN
METHOD:PUBLISH
X-WR-CALNAME:Dolan Springs Community Council
X-ORIGINAL-URL:https://dsccaz.org
X-WR-CALDESC:Events for Dolan Springs Community Council
REFRESH-INTERVAL;VALUE=DURATION:PT1H
X-Robots-Tag:noindex
X-PUBLISHED-TTL:PT1H
BEGIN:VTIMEZONE
TZID:America/Phoenix
BEGIN:STANDARD
TZOFFSETFROM:-0700
TZOFFSETTO:-0700
TZNAME:MST
DTSTART:20240101T000000
END:STANDARD
END:VTIMEZONE
BEGIN:VEVENT
DTSTART;TZID=America/Phoenix:20251004T090000
DTEND;TZID=America/Phoenix:20251004T150000
DTSTAMP:20260423T152805
CREATED:20250929T150440Z
LAST-MODIFIED:20250930T195658Z
UID:3192-1759568400-1759590000@dsccaz.org
SUMMARY:DSCC Community Autumn Sales and Flea Market
DESCRIPTION:This event will be a replacement for our postponed Dolan Days event. Everything else is unchanged: All reserved spaces (indoor and outdoor) will be on DSCC property\, and other community organizations can still hold their raffle drawings as planned.
URL:https://dsccaz.org/event/community-autumn-sales-and-flea-market/
LOCATION:DSCC\, 15195 N Piece Ferry Rd\, Dolan Springs\, AZ\, 86441\, United States
ORGANIZER;CN="DSCC":MAILTO:contact@dsccaz.org
END:VEVENT
END:VCALENDAR