BEGIN:VCALENDAR
VERSION:2.0
PRODID:-//Dolan Springs Community Council - ECPv6.15.20//NONSGML v1.0//EN
CALSCALE:GREGORIAN
METHOD:PUBLISH
X-WR-CALNAME:Dolan Springs Community Council
X-ORIGINAL-URL:https://dsccaz.org
X-WR-CALDESC:Events for Dolan Springs Community Council
REFRESH-INTERVAL;VALUE=DURATION:PT1H
X-Robots-Tag:noindex
X-PUBLISHED-TTL:PT1H
BEGIN:VTIMEZONE
TZID:America/Phoenix
BEGIN:STANDARD
TZOFFSETFROM:-0700
TZOFFSETTO:-0700
TZNAME:MST
DTSTART:20240101T000000
END:STANDARD
END:VTIMEZONE
BEGIN:VEVENT
DTSTART;TZID=America/Phoenix:20251108T160000
DTEND;TZID=America/Phoenix:20251108T180000
DTSTAMP:20260423T095526
CREATED:20251020T131824Z
LAST-MODIFIED:20251020T131955Z
UID:3292-1762617600-1762624800@dsccaz.org
SUMMARY:Fundraising Dinner
DESCRIPTION:This is a dinner for the DSCC for the upcoming Christmas season for the Community Childrens Christmas event!
URL:https://dsccaz.org/event/dinner/
LOCATION:DSCC\, 15195 N Piece Ferry Rd\, Dolan Springs\, AZ\, 86441\, United States
ORGANIZER;CN="DSCC":MAILTO:contact@dsccaz.org
END:VEVENT
BEGIN:VEVENT
DTSTART;TZID=America/Phoenix:20251017T130000
DTEND;TZID=America/Phoenix:20251017T140000
DTSTAMP:20260423T095526
CREATED:20251017T155328Z
LAST-MODIFIED:20251017T155328Z
UID:3288-1760706000-1760709600@dsccaz.org
SUMMARY:Town Hall
DESCRIPTION:This is a town hall meeting to cover road maintenance and possible discussions by the community to raise funds and assist with road management.
URL:https://dsccaz.org/event/town-hall/
LOCATION:DSCC\, 15195 N Piece Ferry Rd\, Dolan Springs\, AZ\, 86441\, United States
ORGANIZER;CN="DSCC":MAILTO:contact@dsccaz.org
END:VEVENT
BEGIN:VEVENT
DTSTART;TZID=America/Phoenix:20251004T090000
DTEND;TZID=America/Phoenix:20251004T150000
DTSTAMP:20260423T095526
CREATED:20250929T150440Z
LAST-MODIFIED:20250930T195658Z
UID:3192-1759568400-1759590000@dsccaz.org
SUMMARY:DSCC Community Autumn Sales and Flea Market
DESCRIPTION:This event will be a replacement for our postponed Dolan Days event. Everything else is unchanged: All reserved spaces (indoor and outdoor) will be on DSCC property\, and other community organizations can still hold their raffle drawings as planned.
URL:https://dsccaz.org/event/community-autumn-sales-and-flea-market/
LOCATION:DSCC\, 15195 N Piece Ferry Rd\, Dolan Springs\, AZ\, 86441\, United States
ORGANIZER;CN="DSCC":MAILTO:contact@dsccaz.org
END:VEVENT
END:VCALENDAR