BEGIN:VCALENDAR
VERSION:2.0
PRODID:-//Dolan Springs Community Council - ECPv6.15.20//NONSGML v1.0//EN
CALSCALE:GREGORIAN
METHOD:PUBLISH
X-WR-CALNAME:Dolan Springs Community Council
X-ORIGINAL-URL:https://dsccaz.org
X-WR-CALDESC:Events for Dolan Springs Community Council
REFRESH-INTERVAL;VALUE=DURATION:PT1H
X-Robots-Tag:noindex
X-PUBLISHED-TTL:PT1H
BEGIN:VTIMEZONE
TZID:America/Phoenix
BEGIN:STANDARD
TZOFFSETFROM:-0700
TZOFFSETTO:-0700
TZNAME:MST
DTSTART:20250101T000000
END:STANDARD
END:VTIMEZONE
BEGIN:VEVENT
DTSTART;TZID=America/Phoenix:20260314T090000
DTEND;TZID=America/Phoenix:20260314T150000
DTSTAMP:20260423T152115
CREATED:20251109T205947Z
LAST-MODIFIED:20260314T023250Z
UID:3301-1773478800-1773500400@dsccaz.org
SUMMARY:Laura's Handmade Marketplace
DESCRIPTION:Handmade market hosted at the DSCC. The DSCC will be offering food and drinks.
URL:https://dsccaz.org/event/lauras-handmade-marketplace/
LOCATION:DSCC\, 15195 N Piece Ferry Rd\, Dolan Springs\, AZ\, 86441\, United States
END:VEVENT
BEGIN:VEVENT
DTSTART;TZID=America/Phoenix:20260418T090000
DTEND;TZID=America/Phoenix:20260418T150000
DTSTAMP:20260423T152115
CREATED:20260314T023201Z
LAST-MODIFIED:20260314T023524Z
UID:3408-1776502800-1776524400@dsccaz.org
SUMMARY:Desert Bloom Event
DESCRIPTION:Our big event featuring a live DJ\, kids carnival\, face painting and more! A special mention for featured events include an organ grinder use event\, yard sale\, vendors\, and a demonstration by our own local fire department. \nWe will also have a market at the DSCC hall.
URL:https://dsccaz.org/event/desert-bloom-event/
LOCATION:Mt Tipton Park\, Edgemont Rd\, Dolan Springs\, 86441\, United States
ORGANIZER;CN="DSCC":MAILTO:contact@dsccaz.org
END:VEVENT
END:VCALENDAR